BEGIN:VCALENDAR
VERSION:2.0
PRODID:-//EMSLAND-CAMP - ECPv6.15.18//NONSGML v1.0//EN
CALSCALE:GREGORIAN
METHOD:PUBLISH
X-WR-CALNAME:EMSLAND-CAMP
X-ORIGINAL-URL:https://emsland-camping.de
X-WR-CALDESC:Veranstaltungen für EMSLAND-CAMP
REFRESH-INTERVAL;VALUE=DURATION:PT1H
X-Robots-Tag:noindex
X-PUBLISHED-TTL:PT1H
BEGIN:VTIMEZONE
TZID:Europe/Berlin
BEGIN:DAYLIGHT
TZOFFSETFROM:+0100
TZOFFSETTO:+0200
TZNAME:CEST
DTSTART:20220327T010000
END:DAYLIGHT
BEGIN:STANDARD
TZOFFSETFROM:+0200
TZOFFSETTO:+0100
TZNAME:CET
DTSTART:20221030T010000
END:STANDARD
BEGIN:DAYLIGHT
TZOFFSETFROM:+0100
TZOFFSETTO:+0200
TZNAME:CEST
DTSTART:20230326T010000
END:DAYLIGHT
BEGIN:STANDARD
TZOFFSETFROM:+0200
TZOFFSETTO:+0100
TZNAME:CET
DTSTART:20231029T010000
END:STANDARD
BEGIN:DAYLIGHT
TZOFFSETFROM:+0100
TZOFFSETTO:+0200
TZNAME:CEST
DTSTART:20240331T010000
END:DAYLIGHT
BEGIN:STANDARD
TZOFFSETFROM:+0200
TZOFFSETTO:+0100
TZNAME:CET
DTSTART:20241027T010000
END:STANDARD
END:VTIMEZONE
BEGIN:VEVENT
DTSTART;VALUE=DATE:20230901
DTEND;VALUE=DATE:20230902
DTSTAMP:20260422T161026
CREATED:20230315T084324Z
LAST-MODIFIED:20230331T093802Z
UID:4430-1693526400-1693612799@emsland-camping.de
SUMMARY:Mit dem "Veenland-Express§ d as Hochmoor erkunden
DESCRIPTION:Der „Veenland-Express“ ist eine Art hypermoderner Planwagen\, um genau zu sein ein Doppeldecker für gut 60 Personen. Dank Niederflurtechnik ist er auch für Gehbehinderte und Rollstuhlfahrer zugänglich. Mit dem Doppeldecker-Planwagen lassen sich verschiedenste Gruppenausflüge durch das Moor von Bargerveen und Oosterbos machen. \nDen besonderen Reiz der Tour macht der spektakuläre Blick über die ausgedehnten Moor- und Heideflächen mit ihrer besonderen Natur aus. Mitten im Hochmoor kann man einen Stopp planen und Kaffee trinken und die Rundfahrt mit einem zünftigen Essen abschließen.\nIndividualgäste oder kleine Gruppe? Kein Problem. \nWeitere Infos\, Preise und Buchungen: \nStaatsbosbeheer Het Veenland\,\nTel. 0031-653199389 oder e.bloeming@staatsbosbeheer.nl
URL:https://emsland-camping.de/event/erlebnis-im-doppeldecker-7
LOCATION:Bagerveeen
END:VEVENT
BEGIN:VEVENT
DTSTART;VALUE=DATE:20230902
DTEND;VALUE=DATE:20230904
DTSTAMP:20260422T161026
CREATED:20220208T100150Z
LAST-MODIFIED:20230406T144202Z
UID:3078-1693612800-1693785599@emsland-camping.de
SUMMARY:Ovalracing in Ter Apel
DESCRIPTION:Ein echtes Erlebnis wird Motorsportinteressierten in Ter Apel geboten. Auf der Rennstrecke von Ter Apel wird auch 2023 wieder für jede Menge Action gesorgt. Die Saison beginnt am 9. April mit den ersten Rennen der Bangerstox und des BMW-Cups.WeitereTitelrennen und Gastklassen werden zu einem späteren Zeitpunkt bekannt gegeben. \n\nSonntag\, 09. April  (Ostersonntag)\nGoldener Helm BMW Cup; Bangerstox \nDonnerstag\, 18. Mai (Christi Himmelfahrt)\nGoldener Helm Rookierods; PAC Stockrods & Crossklasse \nSonntag\, 11. Juni\nGoldener Helm Superrods; Bangerstox \nSonntag\, 09. Juli\nGoldener Helm Junioren; Goldener Helm Bangerstox; Crossklasse \nSamstag 02. und Sonntag 03. September (SPEEDWEEKEND 2022)\nRunde 5 Int. N.K. & N.N.O. Clubmeisterschaft Ovalracing\nNational Championship 2l Hotrods & Dutch Open 2l Hotrods; Euromaster of National Hotrod; Saloon Stockcars \nSonntag\, 24. September\nFinale: Goldener Helm Standard 2000; Crossklasse \nSonntag\, 08. Oktober\nAutocrosstag Bangerstox & Caravanrace
URL:https://emsland-camping.de/event/ovalracing-in-ter-apel-2
LOCATION:Autosportstadion „De Polderputten“\, Hanetangerweg 5a\, Ter Apel\, 9561 PE\, Niederlande
ATTACH;FMTTYPE=image/jpeg:https://emsland-camping.de/wp-content/uploads/2022/02/autocross_xs.jpg
END:VEVENT
BEGIN:VEVENT
DTSTART;VALUE=DATE:20230902
DTEND;VALUE=DATE:20230904
DTSTAMP:20260422T161026
CREATED:20230814T143025Z
LAST-MODIFIED:20230829T123319Z
UID:5025-1693612800-1693785599@emsland-camping.de
SUMMARY:Groß Heseper Mittelaltermarkt
DESCRIPTION:Macht eine Zeitreise ins Mittelalter  \nAn diesem Wochenende lädt der Verein Olle Bäckeräi e. V. Geeste alle Interessierten zum großen Ritterspektakel ein. Es findet ein Ritterturnier statt und ihr könnt euch im Armbrustschießen\, Axtwerfen und anderen mittelalterlichen Disziplinen messen. \nBei mittelalterlicher Musik könnt ihr auch Speisen aus dieser Zeit genießen. Ausserdem wird noch selbstgebackener Kuchen und frischer Kaffee angeboten. \nEintrittspreise: \nErwachsene (zivil)                            9€      Erwachsene (gewandet)     7€ \nKinder bis 14 Jahre                          5€      Kinder unter Schwertmaß (99cm)  frei \nBesucher mit Behindertenausweis   7€ \n  \nFreut euch also auf ein tolles Wochenende auf dem Mittelaltermarkt in Groß Hesepe!
URL:https://emsland-camping.de/event/gross-heseper-mittelaltermarkt
LOCATION:Ortskern Groß-Hesepe\, Geeste - Groß Hesepe\, 49744
END:VEVENT
BEGIN:VEVENT
DTSTART;VALUE=DATE:20230910
DTEND;VALUE=DATE:20230911
DTSTAMP:20260422T161026
CREATED:20200115T155552Z
LAST-MODIFIED:20230713T102852Z
UID:1510-1694304000-1694390399@emsland-camping.de
SUMMARY:Dag van de boekweitboer - Tag der Buchweizenbauern
DESCRIPTION:Von der Aussaat bis zur Ernte des Buchweizens! \nAn diesem Sonntag könnt ihr in die Vergangenheit reisen und miterleben\, wie früher die Aussaat und Ernte von Buchweizen praktiziert wurde. \nEin Besuch lohnt sich! \nTickets dafür können online gebucht werden. \n 
URL:https://emsland-camping.de/event/saisonstart-2020-veenpark
LOCATION:Veenpark\, Berkenrode 4\, Barger Compascuum\, 7884 TR\, Niederlande
ATTACH;FMTTYPE=image/jpeg:https://emsland-camping.de/wp-content/uploads/2020/01/veenpark_xs.jpg
END:VEVENT
BEGIN:VEVENT
DTSTART;TZID=Europe/Berlin:20230910T110000
DTEND;TZID=Europe/Berlin:20230910T190000
DTSTAMP:20260422T161026
CREATED:20230814T130950Z
LAST-MODIFIED:20230814T130950Z
UID:5020-1694343600-1694372400@emsland-camping.de
SUMMARY:Kartoffelmarkt Wesuwe
DESCRIPTION:Der Kartoffelmarkt öffnet an diesem Sonntag ab 11:00 Uhr wieder seine Tore. Auch in diesem Jahr wird für Jung und Alt ein attraktives Rahmenprogramm rund um das Thema „Die tolle Knolle“ auf dem Heimathof Wesuwe geboten. \nNeben vielerlei Köstlichkeiten aus der Kartoffel laden auch zahlreiche Handwerks- und Bastelstände zum stöbern ein. Ab 13:00 Uhr wird selbstgebackener Kuchen und frischer Kaffee angeboten. \nFür musikalische Unterhaltung sorgen die „Wesuweer Dorfmusikanten“ und „De Stormvogels“. Zudem werden die Linedancer von den Hillbilly Stompers eine heiße Sohle aufs Parkett legen. \n  \nDer Heimatverein Wesuwe freut auf zahlreiche Besucher! \n  \n 
URL:https://emsland-camping.de/event/kartoffelmarkt-wesuwe
LOCATION:Heimatverein Wesuwe\, Czerlitzkastrasse\, Haren - Wesuwe\, 49733
END:VEVENT
BEGIN:VEVENT
DTSTART;VALUE=DATE:20230916
DTEND;VALUE=DATE:20230918
DTSTAMP:20260422T161026
CREATED:20230203T134047Z
LAST-MODIFIED:20230329T102801Z
UID:4286-1694822400-1694995199@emsland-camping.de
SUMMARY:Herfstfair - Herbstmarkt
DESCRIPTION:Beginne den Herbst in Bourtange auf dem alljährlichen Herbstmarkt. \nDer Markt bietet eine Vielzahl an Angeboten für den Innen- und Außenbereich. Dort ist alles zu finden\, was die Herbststimmung zu Hause verstärkt . Dekorationen\, Gartenmöbel\, Antiquitäten\, Marmeladen\, Kleidung und vieles mehr! Außerdem erklingt an beiden Tagen Live- Musik auf dem Marktplatz. \nWährend des Marktes sind alle Museen der Festung geöffnet\, so kann die Vergangenheit in vollem Umgang erlebt werden. Wenn eine Eintrittskarte für die Museen gekauft wird\, fällt der Eintritt für den Markt weg.
URL:https://emsland-camping.de/event/herfstfair-herbstmarkt
LOCATION:Bourtange\, Willem Lodewijkstraat 33\, Bourtange\, 9545\, Niederlande
ATTACH;FMTTYPE=image/jpeg:https://emsland-camping.de/wp-content/uploads/2023/02/Bourtange-scaled.jpg
END:VEVENT
BEGIN:VEVENT
DTSTART;TZID=Europe/Berlin:20230916T190000
DTEND;TZID=Europe/Berlin:20230916T213000
DTSTAMP:20260422T161026
CREATED:20230726T124134Z
LAST-MODIFIED:20230904T135055Z
UID:4977-1694890800-1694899800@emsland-camping.de
SUMMARY:Sekt on the River - Amisia Haren
DESCRIPTION:Ein Highlight für alle Sekt & Champagner-Liebhaber und für alle\, die es werden wollen! Während einer 2-stündigen Rundfahrt auf der Ems wird eine Auswahl feinster Sekte & Champagner präsentiert. 🥂 \nPassend dazu wird während der Fahrt Fingerfood gestellt. Nach Fahrtende könnt ihr entspannt den Abend auf der Amisia ausklingen lassen. ❤️ \nEs erwartet Dich: \n\nSekt & Champagnerprobe\nFingerfood vom Alten Gasthaus Kamp\nSchiffahrt\nWasser\n\n 
URL:https://emsland-camping.de/event/wein-an-der-muehle
LOCATION:Amisia Haren\, Schleusenstraße\, Haren\, Niedersachsen\, 49733
ORGANIZER;CN="H%C3%BClsmann Wein":MAILTO:info@huelsmann-wein.de
END:VEVENT
BEGIN:VEVENT
DTSTART;VALUE=DATE:20230924
DTEND;VALUE=DATE:20230925
DTSTAMP:20260422T161026
CREATED:20220208T095954Z
LAST-MODIFIED:20230906T113247Z
UID:3076-1695513600-1695599999@emsland-camping.de
SUMMARY:Ovalracing in Ter Apel
DESCRIPTION:Ein echtes Erlebnis wird Motorsportinteressierten in Ter Apel geboten. Auf der Rennstrecke von Ter Apel wird auch 2023 wieder für jede Menge Action gesorgt. Die Saison beginnt am 9. April mit den ersten Rennen der Bangerstox und des BMW-Cups.WeitereTitelrennen und Gastklassen werden zu einem späteren Zeitpunkt bekannt gegeben. \n\nSonntag\, 09. April  (Ostersonntag)\nGoldener Helm BMW Cup; Bangerstox \nDonnerstag\, 18. Mai (Christi Himmelfahrt)\nGoldener Helm Rookierods; PAC Stockrods & Crossklasse \nSonntag\, 11. Juni\nGoldener Helm Superrods; Bangerstox \nSonntag\, 09. Juli\nGoldener Helm Junioren; Goldener Helm Bangerstox; Crossklasse \nSamstag 02. und Sonntag 03. September (SPEEDWEEKEND 2022)\nRunde 5 Int. N.K. & N.N.O. Clubmeisterschaft Ovalracing\nNational Championship 2l Hotrods & Dutch Open 2l Hotrods; Euromaster of National Hotrod; Saloon Stockcars \nSonntag\, 24. September\nFinale: Goldener Helm Standard 2000; Crossklasse \nSonntag\, 08. Oktober\nAutocrosstag Bangerstox & Caravanrace
URL:https://emsland-camping.de/event/ovalracing-in-ter-apel
LOCATION:Autosportstadion „De Polderputten“\, Hanetangerweg 5a\, Ter Apel\, 9561 PE\, Niederlande
END:VEVENT
BEGIN:VEVENT
DTSTART;TZID=Europe/Berlin:20230928T190000
DTEND;TZID=Europe/Berlin:20230928T190000
DTSTAMP:20260422T161026
CREATED:20230906T120718Z
LAST-MODIFIED:20230918T084003Z
UID:5164-1695927600-1695927600@emsland-camping.de
SUMMARY:Klangkulturtage 2023 🎶 - Lesung Jasmin Lörcher
DESCRIPTION:Vom 28. bis 30. September finden die zweiten Klangkulturtage auf dem Kulturschiff Blaue Donau statt. Das Planungsteam konnte für alle drei Tage ein wunderbares Programm auf die Beine stellen. ✌🏼 \nEröffnet wird die Jubiläumsfeier am Donnerstag\, den 28.09.2023\, mit einer Lesung der Autorin Jasmin Lörchner aus ihrem ihrem Buch „Nicht nur Heldinnen“. \nIn ihrem Buch geht es um über 20 bedeutsame Frauen\, die in der Geschichtsschreibung bisher nicht genug Aufmerksamkeit bekommen haben. Um Mächtige\, Kreative\, Macherinnen\, Pionierinnen und Kämpferinnen. \nEinlass ist um 19 Uhr und die Lesung beginnt um 20 Uhr auf dem Kulturschiff „Blaue Donau“ in Haren-Raken. Der Eintritt ist frei. \nSitzplatzreservierungen sind per Mail  an info@klangkultur-emsland.de möglich. Die Reservierungen sind bis 19:30 Uhr gültig. \nWir wünschen viel Spaß! 
URL:https://emsland-camping.de/event/klangkulturtage-2023-%f0%9f%8e%b6
LOCATION:Kulturschiff Blaue Donau\, Rakener Strasse 38\, Haren\, 49733
END:VEVENT
BEGIN:VEVENT
DTSTART;TZID=Europe/Berlin:20230929T200000
DTEND;TZID=Europe/Berlin:20230929T200000
DTSTAMP:20260422T161026
CREATED:20230918T085809Z
LAST-MODIFIED:20230918T085809Z
UID:5215-1696017600-1696017600@emsland-camping.de
SUMMARY:Klangkulturtage 2023 🎶 - Live // Big Tennis + Liebe 3000
DESCRIPTION:Vom 28. bis 30. September finden die zweiten Klangkulturtage auf dem Kulturschiff Blaue Donau statt. Das Planungsteam konnte für alle drei Tage ein wunderbares Programm auf die Beine stellen. \nAm 29.09.2023\, dem zweiten Jubiläumstag\, sorgen die Bands „Big Tennis“ und „Liebe 3000“ für neue Konzertmomente auf dem Kulturschiff Blaue Donau. \nEinlass ist ab 20 Uhr und das Konzert beginnt um 21 Uhr. Der Eintritt kostet 10\,00€. Tickets und weitere Infos erhaltet ihr auf der Webseite. 🤩 \n 
URL:https://emsland-camping.de/event/klangkulturtage-2023-%f0%9f%8e%b6-live-big-tennis-liebe-3000
LOCATION:Kulturschiff Blaue Donau\, Rakener Strasse 38\, Haren\, 49733
END:VEVENT
BEGIN:VEVENT
DTSTART;TZID=Europe/Berlin:20230930T220000
DTEND;TZID=Europe/Berlin:20230930T220000
DTSTAMP:20260422T161026
CREATED:20230918T091324Z
LAST-MODIFIED:20230918T091324Z
UID:5217-1696111200-1696111200@emsland-camping.de
SUMMARY:Klangkulturtage 2023 🎶 - Clubnacht
DESCRIPTION:Vom 28. bis 30. September finden die zweiten Klangkulturtage auf dem Kulturschiff Blaue Donau statt. Das Planungsteam konnte für alle drei Tage ein wunderbares Programm auf die Beine stellen. ✌🏼 \nZum grandiosen Abschluss der Klangkulturtage wird es eine Clubnacht im Geiste des Neon Fields Festivals geben. Die DJs RiotOnTheRocks und Lazee Luq sorgen für eine elektrische Auswahl an tanzbaren Beats. \nDie Tickets kosten 6€ und diese erhaltet ihr auf der Webseite. \nWir wünschen viel Spaß! 🥳 \n 
URL:https://emsland-camping.de/event/klangkulturtage-2023-%f0%9f%8e%b6-clubnacht
LOCATION:Kulturschiff Blaue Donau\, Rakener Strasse 38\, Haren\, 49733
END:VEVENT
END:VCALENDAR